BEGIN:VCALENDAR
VERSION:2.0
PRODID:https://www.kufer.de/kuferweb / DE
METHOD:PUBLISH
CALSCALE:GREGORIAN
X-WR-TIMEZONE:Europe/Berlin
BEGIN:VTIMEZONE
TZID:Europe/Berlin
X-LIC-LOCATION:Europe/Berlin
BEGIN:DAYLIGHT
TZOFFSETFROM:+0100
TZOFFSETTO:+0200
TZNAME:CEST
DTSTART:19700329T020000
RRULE:FREQ=YEARLY;INTERVAL=1;BYDAY=-1SU;BYMONTH=3
END:DAYLIGHT
BEGIN:STANDARD
TZOFFSETFROM:+0200
TZOFFSETTO:+0100
TZNAME:CET
DTSTART:19701025T030000
RRULE:FREQ=YEARLY;INTERVAL=1;BYDAY=-1SU;BYMONTH=10
END:STANDARD
END:VTIMEZONE
BEGIN:VEVENT
DTSTAMP:20260420T135921
DTSTART;TZID=Europe/Berlin:20261118T091500
DTEND;TZID=Europe/Berlin:20261118T123000
UID:262-758-9T-20261118T091500@VHSMITTLERES TAUBERTAL E. V.
SUMMARY:Integrationskurs für Zweitschriftlernende Modul 9 (262-758-9T) 
LOCATION:vhs-Gebäude; Raum 1, Struwepfad 2, 97941 Tauberbischofsheim
END:VEVENT
BEGIN:VEVENT
DTSTAMP:20260420T135921
DTSTART;TZID=Europe/Berlin:20261119T091500
DTEND;TZID=Europe/Berlin:20261119T123000
UID:262-758-9T-20261119T091500@VHSMITTLERES TAUBERTAL E. V.
SUMMARY:Integrationskurs für Zweitschriftlernende Modul 9 (262-758-9T) 
LOCATION:vhs-Gebäude; Raum 1, Struwepfad 2, 97941 Tauberbischofsheim
END:VEVENT
BEGIN:VEVENT
DTSTAMP:20260420T135921
DTSTART;TZID=Europe/Berlin:20261120T091500
DTEND;TZID=Europe/Berlin:20261120T123000
UID:262-758-9T-20261120T091500@VHSMITTLERES TAUBERTAL E. V.
SUMMARY:Integrationskurs für Zweitschriftlernende Modul 9 (262-758-9T) 
LOCATION:vhs-Gebäude; Raum 1, Struwepfad 2, 97941 Tauberbischofsheim
END:VEVENT
BEGIN:VEVENT
DTSTAMP:20260420T135921
DTSTART;TZID=Europe/Berlin:20261125T091500
DTEND;TZID=Europe/Berlin:20261125T123000
UID:262-758-9T-20261125T091500@VHSMITTLERES TAUBERTAL E. V.
SUMMARY:Integrationskurs für Zweitschriftlernende Modul 9 (262-758-9T) 
LOCATION:vhs-Gebäude; Raum 1, Struwepfad 2, 97941 Tauberbischofsheim
END:VEVENT
BEGIN:VEVENT
DTSTAMP:20260420T135921
DTSTART;TZID=Europe/Berlin:20261126T091500
DTEND;TZID=Europe/Berlin:20261126T123000
UID:262-758-9T-20261126T091500@VHSMITTLERES TAUBERTAL E. V.
SUMMARY:Integrationskurs für Zweitschriftlernende Modul 9 (262-758-9T) 
LOCATION:vhs-Gebäude; Raum 1, Struwepfad 2, 97941 Tauberbischofsheim
END:VEVENT
BEGIN:VEVENT
DTSTAMP:20260420T135921
DTSTART;TZID=Europe/Berlin:20261127T091500
DTEND;TZID=Europe/Berlin:20261127T123000
UID:262-758-9T-20261127T091500@VHSMITTLERES TAUBERTAL E. V.
SUMMARY:Integrationskurs für Zweitschriftlernende Modul 9 (262-758-9T) 
LOCATION:vhs-Gebäude; Raum 1, Struwepfad 2, 97941 Tauberbischofsheim
END:VEVENT
BEGIN:VEVENT
DTSTAMP:20260420T135921
DTSTART;TZID=Europe/Berlin:20261202T091500
DTEND;TZID=Europe/Berlin:20261202T123000
UID:262-758-9T-20261202T091500@VHSMITTLERES TAUBERTAL E. V.
SUMMARY:Integrationskurs für Zweitschriftlernende Modul 9 (262-758-9T) 
LOCATION:vhs-Gebäude; Raum 1, Struwepfad 2, 97941 Tauberbischofsheim
END:VEVENT
BEGIN:VEVENT
DTSTAMP:20260420T135921
DTSTART;TZID=Europe/Berlin:20261203T091500
DTEND;TZID=Europe/Berlin:20261203T123000
UID:262-758-9T-20261203T091500@VHSMITTLERES TAUBERTAL E. V.
SUMMARY:Integrationskurs für Zweitschriftlernende Modul 9 (262-758-9T) 
LOCATION:vhs-Gebäude; Raum 1, Struwepfad 2, 97941 Tauberbischofsheim
END:VEVENT
BEGIN:VEVENT
DTSTAMP:20260420T135921
DTSTART;TZID=Europe/Berlin:20261204T091500
DTEND;TZID=Europe/Berlin:20261204T123000
UID:262-758-9T-20261204T091500@VHSMITTLERES TAUBERTAL E. V.
SUMMARY:Integrationskurs für Zweitschriftlernende Modul 9 (262-758-9T) 
LOCATION:vhs-Gebäude; Raum 1, Struwepfad 2, 97941 Tauberbischofsheim
END:VEVENT
BEGIN:VEVENT
DTSTAMP:20260420T135921
DTSTART;TZID=Europe/Berlin:20261209T091500
DTEND;TZID=Europe/Berlin:20261209T123000
UID:262-758-9T-20261209T091500@VHSMITTLERES TAUBERTAL E. V.
SUMMARY:Integrationskurs für Zweitschriftlernende Modul 9 (262-758-9T) 
LOCATION:vhs-Gebäude; Raum 1, Struwepfad 2, 97941 Tauberbischofsheim
END:VEVENT
BEGIN:VEVENT
DTSTAMP:20260420T135921
DTSTART;TZID=Europe/Berlin:20261210T091500
DTEND;TZID=Europe/Berlin:20261210T123000
UID:262-758-9T-20261210T091500@VHSMITTLERES TAUBERTAL E. V.
SUMMARY:Integrationskurs für Zweitschriftlernende Modul 9 (262-758-9T) 
LOCATION:vhs-Gebäude; Raum 1, Struwepfad 2, 97941 Tauberbischofsheim
END:VEVENT
BEGIN:VEVENT
DTSTAMP:20260420T135921
DTSTART;TZID=Europe/Berlin:20261211T091500
DTEND;TZID=Europe/Berlin:20261211T123000
UID:262-758-9T-20261211T091500@VHSMITTLERES TAUBERTAL E. V.
SUMMARY:Integrationskurs für Zweitschriftlernende Modul 9 (262-758-9T) 
LOCATION:vhs-Gebäude; Raum 1, Struwepfad 2, 97941 Tauberbischofsheim
END:VEVENT
BEGIN:VEVENT
DTSTAMP:20260420T135921
DTSTART;TZID=Europe/Berlin:20261216T091500
DTEND;TZID=Europe/Berlin:20261216T123000
UID:262-758-9T-20261216T091500@VHSMITTLERES TAUBERTAL E. V.
SUMMARY:Integrationskurs für Zweitschriftlernende Modul 9 (262-758-9T) 
LOCATION:vhs-Gebäude; Raum 1, Struwepfad 2, 97941 Tauberbischofsheim
END:VEVENT
BEGIN:VEVENT
DTSTAMP:20260420T135921
DTSTART;TZID=Europe/Berlin:20261217T091500
DTEND;TZID=Europe/Berlin:20261217T123000
UID:262-758-9T-20261217T091500@VHSMITTLERES TAUBERTAL E. V.
SUMMARY:Integrationskurs für Zweitschriftlernende Modul 9 (262-758-9T) 
LOCATION:vhs-Gebäude; Raum 1, Struwepfad 2, 97941 Tauberbischofsheim
END:VEVENT
BEGIN:VEVENT
DTSTAMP:20260420T135921
DTSTART;TZID=Europe/Berlin:20261218T091500
DTEND;TZID=Europe/Berlin:20261218T123000
UID:262-758-9T-20261218T091500@VHSMITTLERES TAUBERTAL E. V.
SUMMARY:Integrationskurs für Zweitschriftlernende Modul 9 (262-758-9T) 
LOCATION:vhs-Gebäude; Raum 1, Struwepfad 2, 97941 Tauberbischofsheim
END:VEVENT
BEGIN:VEVENT
DTSTAMP:20260420T135921
DTSTART;TZID=Europe/Berlin:20270113T091500
DTEND;TZID=Europe/Berlin:20270113T123000
UID:262-758-9T-20270113T091500@VHSMITTLERES TAUBERTAL E. V.
SUMMARY:Integrationskurs für Zweitschriftlernende Modul 9 (262-758-9T) 
LOCATION:vhs-Gebäude; Raum 1, Struwepfad 2, 97941 Tauberbischofsheim
END:VEVENT
BEGIN:VEVENT
DTSTAMP:20260420T135921
DTSTART;TZID=Europe/Berlin:20270114T091500
DTEND;TZID=Europe/Berlin:20270114T123000
UID:262-758-9T-20270114T091500@VHSMITTLERES TAUBERTAL E. V.
SUMMARY:Integrationskurs für Zweitschriftlernende Modul 9 (262-758-9T) 
LOCATION:vhs-Gebäude; Raum 1, Struwepfad 2, 97941 Tauberbischofsheim
END:VEVENT
BEGIN:VEVENT
DTSTAMP:20260420T135921
DTSTART;TZID=Europe/Berlin:20270115T091500
DTEND;TZID=Europe/Berlin:20270115T123000
UID:262-758-9T-20270115T091500@VHSMITTLERES TAUBERTAL E. V.
SUMMARY:Integrationskurs für Zweitschriftlernende Modul 9 (262-758-9T) 
LOCATION:vhs-Gebäude; Raum 1, Struwepfad 2, 97941 Tauberbischofsheim
END:VEVENT
BEGIN:VEVENT
DTSTAMP:20260420T135921
DTSTART;TZID=Europe/Berlin:20270120T091500
DTEND;TZID=Europe/Berlin:20270120T123000
UID:262-758-9T-20270120T091500@VHSMITTLERES TAUBERTAL E. V.
SUMMARY:Integrationskurs für Zweitschriftlernende Modul 9 (262-758-9T) 
LOCATION:vhs-Gebäude; Raum 1, Struwepfad 2, 97941 Tauberbischofsheim
END:VEVENT
BEGIN:VEVENT
DTSTAMP:20260420T135921
DTSTART;TZID=Europe/Berlin:20270121T091500
DTEND;TZID=Europe/Berlin:20270121T123000
UID:262-758-9T-20270121T091500@VHSMITTLERES TAUBERTAL E. V.
SUMMARY:Integrationskurs für Zweitschriftlernende Modul 9 (262-758-9T) 
LOCATION:vhs-Gebäude; Raum 1, Struwepfad 2, 97941 Tauberbischofsheim
END:VEVENT
BEGIN:VEVENT
DTSTAMP:20260420T135921
DTSTART;TZID=Europe/Berlin:20270122T091500
DTEND;TZID=Europe/Berlin:20270122T123000
UID:262-758-9T-20270122T091500@VHSMITTLERES TAUBERTAL E. V.
SUMMARY:Integrationskurs für Zweitschriftlernende Modul 9 (262-758-9T) 
LOCATION:vhs-Gebäude; Raum 1, Struwepfad 2, 97941 Tauberbischofsheim
END:VEVENT
BEGIN:VEVENT
DTSTAMP:20260420T135921
DTSTART;TZID=Europe/Berlin:20270127T091500
DTEND;TZID=Europe/Berlin:20270127T123000
UID:262-758-9T-20270127T091500@VHSMITTLERES TAUBERTAL E. V.
SUMMARY:Integrationskurs für Zweitschriftlernende Modul 9 (262-758-9T) 
LOCATION:vhs-Gebäude; Raum 1, Struwepfad 2, 97941 Tauberbischofsheim
END:VEVENT
BEGIN:VEVENT
DTSTAMP:20260420T135921
DTSTART;TZID=Europe/Berlin:20270128T091500
DTEND;TZID=Europe/Berlin:20270128T123000
UID:262-758-9T-20270128T091500@VHSMITTLERES TAUBERTAL E. V.
SUMMARY:Integrationskurs für Zweitschriftlernende Modul 9 (262-758-9T) 
LOCATION:vhs-Gebäude; Raum 1, Struwepfad 2, 97941 Tauberbischofsheim
END:VEVENT
BEGIN:VEVENT
DTSTAMP:20260420T135921
DTSTART;TZID=Europe/Berlin:20270129T091500
DTEND;TZID=Europe/Berlin:20270129T123000
UID:262-758-9T-20270129T091500@VHSMITTLERES TAUBERTAL E. V.
SUMMARY:Integrationskurs für Zweitschriftlernende Modul 9 (262-758-9T) 
LOCATION:vhs-Gebäude; Raum 1, Struwepfad 2, 97941 Tauberbischofsheim
END:VEVENT
BEGIN:VEVENT
DTSTAMP:20260420T135921
DTSTART;TZID=Europe/Berlin:20270203T091500
DTEND;TZID=Europe/Berlin:20270203T123000
UID:262-758-9T-20270203T091500@VHSMITTLERES TAUBERTAL E. V.
SUMMARY:Integrationskurs für Zweitschriftlernende Modul 9 (262-758-9T) 
LOCATION:vhs-Gebäude; Raum 1, Struwepfad 2, 97941 Tauberbischofsheim
END:VEVENT
END:VCALENDAR