BEGIN:VCALENDAR
VERSION:2.0
PRODID:https://www.kufer.de/kuferweb / DE
METHOD:PUBLISH
CALSCALE:GREGORIAN
X-WR-TIMEZONE:Europe/Berlin
BEGIN:VTIMEZONE
TZID:Europe/Berlin
X-LIC-LOCATION:Europe/Berlin
BEGIN:DAYLIGHT
TZOFFSETFROM:+0100
TZOFFSETTO:+0200
TZNAME:CEST
DTSTART:19700329T020000
RRULE:FREQ=YEARLY;INTERVAL=1;BYDAY=-1SU;BYMONTH=3
END:DAYLIGHT
BEGIN:STANDARD
TZOFFSETFROM:+0200
TZOFFSETTO:+0100
TZNAME:CET
DTSTART:19701025T030000
RRULE:FREQ=YEARLY;INTERVAL=1;BYDAY=-1SU;BYMONTH=10
END:STANDARD
END:VTIMEZONE
BEGIN:VEVENT
DTSTAMP:20260420T122328
DTSTART;TZID=Europe/Berlin:20261130T141500
DTEND;TZID=Europe/Berlin:20261130T173000
UID:262-721-4T-20261130T141500@VHSMITTLERES TAUBERTAL E. V.
SUMMARY:Integrationskurs für gering Literalisierte - Modul 4 (262-721-4T) 
LOCATION:Schulzentrum am Woert SZ, Raum B1.02, Pestalozziallee 6, 97941 Tauberbischofsheim
END:VEVENT
BEGIN:VEVENT
DTSTAMP:20260420T122329
DTSTART;TZID=Europe/Berlin:20261202T141500
DTEND;TZID=Europe/Berlin:20261202T173000
UID:262-721-4T-20261202T141500@VHSMITTLERES TAUBERTAL E. V.
SUMMARY:Integrationskurs für gering Literalisierte - Modul 4 (262-721-4T) 
LOCATION:Schulzentrum am Woert SZ, Raum B1.02, Pestalozziallee 6, 97941 Tauberbischofsheim
END:VEVENT
BEGIN:VEVENT
DTSTAMP:20260420T122329
DTSTART;TZID=Europe/Berlin:20261203T141500
DTEND;TZID=Europe/Berlin:20261203T173000
UID:262-721-4T-20261203T141500@VHSMITTLERES TAUBERTAL E. V.
SUMMARY:Integrationskurs für gering Literalisierte - Modul 4 (262-721-4T) 
LOCATION:Schulzentrum am Woert SZ, Raum B1.02, Pestalozziallee 6, 97941 Tauberbischofsheim
END:VEVENT
BEGIN:VEVENT
DTSTAMP:20260420T122329
DTSTART;TZID=Europe/Berlin:20261207T141500
DTEND;TZID=Europe/Berlin:20261207T173000
UID:262-721-4T-20261207T141500@VHSMITTLERES TAUBERTAL E. V.
SUMMARY:Integrationskurs für gering Literalisierte - Modul 4 (262-721-4T) 
LOCATION:Schulzentrum am Woert SZ, Raum B1.02, Pestalozziallee 6, 97941 Tauberbischofsheim
END:VEVENT
BEGIN:VEVENT
DTSTAMP:20260420T122329
DTSTART;TZID=Europe/Berlin:20261209T141500
DTEND;TZID=Europe/Berlin:20261209T173000
UID:262-721-4T-20261209T141500@VHSMITTLERES TAUBERTAL E. V.
SUMMARY:Integrationskurs für gering Literalisierte - Modul 4 (262-721-4T) 
LOCATION:Schulzentrum am Woert SZ, Raum B1.02, Pestalozziallee 6, 97941 Tauberbischofsheim
END:VEVENT
BEGIN:VEVENT
DTSTAMP:20260420T122329
DTSTART;TZID=Europe/Berlin:20261210T141500
DTEND;TZID=Europe/Berlin:20261210T173000
UID:262-721-4T-20261210T141500@VHSMITTLERES TAUBERTAL E. V.
SUMMARY:Integrationskurs für gering Literalisierte - Modul 4 (262-721-4T) 
LOCATION:Schulzentrum am Woert SZ, Raum B1.02, Pestalozziallee 6, 97941 Tauberbischofsheim
END:VEVENT
BEGIN:VEVENT
DTSTAMP:20260420T122329
DTSTART;TZID=Europe/Berlin:20261214T141500
DTEND;TZID=Europe/Berlin:20261214T173000
UID:262-721-4T-20261214T141500@VHSMITTLERES TAUBERTAL E. V.
SUMMARY:Integrationskurs für gering Literalisierte - Modul 4 (262-721-4T) 
LOCATION:Schulzentrum am Woert SZ, Raum B1.02, Pestalozziallee 6, 97941 Tauberbischofsheim
END:VEVENT
BEGIN:VEVENT
DTSTAMP:20260420T122329
DTSTART;TZID=Europe/Berlin:20261216T141500
DTEND;TZID=Europe/Berlin:20261216T173000
UID:262-721-4T-20261216T141500@VHSMITTLERES TAUBERTAL E. V.
SUMMARY:Integrationskurs für gering Literalisierte - Modul 4 (262-721-4T) 
LOCATION:Schulzentrum am Woert SZ, Raum B1.02, Pestalozziallee 6, 97941 Tauberbischofsheim
END:VEVENT
BEGIN:VEVENT
DTSTAMP:20260420T122329
DTSTART;TZID=Europe/Berlin:20261217T141500
DTEND;TZID=Europe/Berlin:20261217T173000
UID:262-721-4T-20261217T141500@VHSMITTLERES TAUBERTAL E. V.
SUMMARY:Integrationskurs für gering Literalisierte - Modul 4 (262-721-4T) 
LOCATION:Schulzentrum am Woert SZ, Raum B1.02, Pestalozziallee 6, 97941 Tauberbischofsheim
END:VEVENT
BEGIN:VEVENT
DTSTAMP:20260420T122329
DTSTART;TZID=Europe/Berlin:20261221T141500
DTEND;TZID=Europe/Berlin:20261221T173000
UID:262-721-4T-20261221T141500@VHSMITTLERES TAUBERTAL E. V.
SUMMARY:Integrationskurs für gering Literalisierte - Modul 4 (262-721-4T) 
LOCATION:Schulzentrum am Woert SZ, Raum B1.02, Pestalozziallee 6, 97941 Tauberbischofsheim
END:VEVENT
BEGIN:VEVENT
DTSTAMP:20260420T122329
DTSTART;TZID=Europe/Berlin:20270111T141500
DTEND;TZID=Europe/Berlin:20270111T173000
UID:262-721-4T-20270111T141500@VHSMITTLERES TAUBERTAL E. V.
SUMMARY:Integrationskurs für gering Literalisierte - Modul 4 (262-721-4T) 
LOCATION:Schulzentrum am Woert SZ, Raum B1.02, Pestalozziallee 6, 97941 Tauberbischofsheim
END:VEVENT
BEGIN:VEVENT
DTSTAMP:20260420T122329
DTSTART;TZID=Europe/Berlin:20270113T141500
DTEND;TZID=Europe/Berlin:20270113T173000
UID:262-721-4T-20270113T141500@VHSMITTLERES TAUBERTAL E. V.
SUMMARY:Integrationskurs für gering Literalisierte - Modul 4 (262-721-4T) 
LOCATION:Schulzentrum am Woert SZ, Raum B1.02, Pestalozziallee 6, 97941 Tauberbischofsheim
END:VEVENT
BEGIN:VEVENT
DTSTAMP:20260420T122329
DTSTART;TZID=Europe/Berlin:20270114T141500
DTEND;TZID=Europe/Berlin:20270114T173000
UID:262-721-4T-20270114T141500@VHSMITTLERES TAUBERTAL E. V.
SUMMARY:Integrationskurs für gering Literalisierte - Modul 4 (262-721-4T) 
LOCATION:Schulzentrum am Woert SZ, Raum B1.02, Pestalozziallee 6, 97941 Tauberbischofsheim
END:VEVENT
BEGIN:VEVENT
DTSTAMP:20260420T122329
DTSTART;TZID=Europe/Berlin:20270118T141500
DTEND;TZID=Europe/Berlin:20270118T173000
UID:262-721-4T-20270118T141500@VHSMITTLERES TAUBERTAL E. V.
SUMMARY:Integrationskurs für gering Literalisierte - Modul 4 (262-721-4T) 
LOCATION:Schulzentrum am Woert SZ, Raum B1.02, Pestalozziallee 6, 97941 Tauberbischofsheim
END:VEVENT
BEGIN:VEVENT
DTSTAMP:20260420T122329
DTSTART;TZID=Europe/Berlin:20270120T141500
DTEND;TZID=Europe/Berlin:20270120T173000
UID:262-721-4T-20270120T141500@VHSMITTLERES TAUBERTAL E. V.
SUMMARY:Integrationskurs für gering Literalisierte - Modul 4 (262-721-4T) 
LOCATION:Schulzentrum am Woert SZ, Raum B1.02, Pestalozziallee 6, 97941 Tauberbischofsheim
END:VEVENT
BEGIN:VEVENT
DTSTAMP:20260420T122329
DTSTART;TZID=Europe/Berlin:20270121T141500
DTEND;TZID=Europe/Berlin:20270121T173000
UID:262-721-4T-20270121T141500@VHSMITTLERES TAUBERTAL E. V.
SUMMARY:Integrationskurs für gering Literalisierte - Modul 4 (262-721-4T) 
LOCATION:Schulzentrum am Woert SZ, Raum B1.02, Pestalozziallee 6, 97941 Tauberbischofsheim
END:VEVENT
BEGIN:VEVENT
DTSTAMP:20260420T122329
DTSTART;TZID=Europe/Berlin:20270125T141500
DTEND;TZID=Europe/Berlin:20270125T173000
UID:262-721-4T-20270125T141500@VHSMITTLERES TAUBERTAL E. V.
SUMMARY:Integrationskurs für gering Literalisierte - Modul 4 (262-721-4T) 
LOCATION:Schulzentrum am Woert SZ, Raum B1.02, Pestalozziallee 6, 97941 Tauberbischofsheim
END:VEVENT
BEGIN:VEVENT
DTSTAMP:20260420T122329
DTSTART;TZID=Europe/Berlin:20270127T141500
DTEND;TZID=Europe/Berlin:20270127T173000
UID:262-721-4T-20270127T141500@VHSMITTLERES TAUBERTAL E. V.
SUMMARY:Integrationskurs für gering Literalisierte - Modul 4 (262-721-4T) 
LOCATION:Schulzentrum am Woert SZ, Raum B1.02, Pestalozziallee 6, 97941 Tauberbischofsheim
END:VEVENT
BEGIN:VEVENT
DTSTAMP:20260420T122329
DTSTART;TZID=Europe/Berlin:20270128T141500
DTEND;TZID=Europe/Berlin:20270128T173000
UID:262-721-4T-20270128T141500@VHSMITTLERES TAUBERTAL E. V.
SUMMARY:Integrationskurs für gering Literalisierte - Modul 4 (262-721-4T) 
LOCATION:Schulzentrum am Woert SZ, Raum B1.02, Pestalozziallee 6, 97941 Tauberbischofsheim
END:VEVENT
BEGIN:VEVENT
DTSTAMP:20260420T122329
DTSTART;TZID=Europe/Berlin:20270201T141500
DTEND;TZID=Europe/Berlin:20270201T173000
UID:262-721-4T-20270201T141500@VHSMITTLERES TAUBERTAL E. V.
SUMMARY:Integrationskurs für gering Literalisierte - Modul 4 (262-721-4T) 
LOCATION:Schulzentrum am Woert SZ, Raum B1.02, Pestalozziallee 6, 97941 Tauberbischofsheim
END:VEVENT
BEGIN:VEVENT
DTSTAMP:20260420T122329
DTSTART;TZID=Europe/Berlin:20270203T141500
DTEND;TZID=Europe/Berlin:20270203T173000
UID:262-721-4T-20270203T141500@VHSMITTLERES TAUBERTAL E. V.
SUMMARY:Integrationskurs für gering Literalisierte - Modul 4 (262-721-4T) 
LOCATION:Schulzentrum am Woert SZ, Raum B1.02, Pestalozziallee 6, 97941 Tauberbischofsheim
END:VEVENT
BEGIN:VEVENT
DTSTAMP:20260420T122329
DTSTART;TZID=Europe/Berlin:20270204T141500
DTEND;TZID=Europe/Berlin:20270204T173000
UID:262-721-4T-20270204T141500@VHSMITTLERES TAUBERTAL E. V.
SUMMARY:Integrationskurs für gering Literalisierte - Modul 4 (262-721-4T) 
LOCATION:Schulzentrum am Woert SZ, Raum B1.02, Pestalozziallee 6, 97941 Tauberbischofsheim
END:VEVENT
BEGIN:VEVENT
DTSTAMP:20260420T122329
DTSTART;TZID=Europe/Berlin:20270215T141500
DTEND;TZID=Europe/Berlin:20270215T173000
UID:262-721-4T-20270215T141500@VHSMITTLERES TAUBERTAL E. V.
SUMMARY:Integrationskurs für gering Literalisierte - Modul 4 (262-721-4T) 
LOCATION:Schulzentrum am Woert SZ, Raum B1.02, Pestalozziallee 6, 97941 Tauberbischofsheim
END:VEVENT
BEGIN:VEVENT
DTSTAMP:20260420T122329
DTSTART;TZID=Europe/Berlin:20270217T141500
DTEND;TZID=Europe/Berlin:20270217T173000
UID:262-721-4T-20270217T141500@VHSMITTLERES TAUBERTAL E. V.
SUMMARY:Integrationskurs für gering Literalisierte - Modul 4 (262-721-4T) 
LOCATION:Schulzentrum am Woert SZ, Raum B1.02, Pestalozziallee 6, 97941 Tauberbischofsheim
END:VEVENT
BEGIN:VEVENT
DTSTAMP:20260420T122329
DTSTART;TZID=Europe/Berlin:20270218T141500
DTEND;TZID=Europe/Berlin:20270218T173000
UID:262-721-4T-20270218T141500@VHSMITTLERES TAUBERTAL E. V.
SUMMARY:Integrationskurs für gering Literalisierte - Modul 4 (262-721-4T) 
LOCATION:Schulzentrum am Woert SZ, Raum B1.02, Pestalozziallee 6, 97941 Tauberbischofsheim
END:VEVENT
END:VCALENDAR