BEGIN:VCALENDAR
VERSION:2.0
PRODID:https://www.kufer.de/kuferweb / DE
METHOD:PUBLISH
CALSCALE:GREGORIAN
X-WR-TIMEZONE:Europe/Berlin
BEGIN:VTIMEZONE
TZID:Europe/Berlin
X-LIC-LOCATION:Europe/Berlin
BEGIN:DAYLIGHT
TZOFFSETFROM:+0100
TZOFFSETTO:+0200
TZNAME:CEST
DTSTART:19700329T020000
RRULE:FREQ=YEARLY;INTERVAL=1;BYDAY=-1SU;BYMONTH=3
END:DAYLIGHT
BEGIN:STANDARD
TZOFFSETFROM:+0200
TZOFFSETTO:+0100
TZNAME:CET
DTSTART:19701025T030000
RRULE:FREQ=YEARLY;INTERVAL=1;BYDAY=-1SU;BYMONTH=10
END:STANDARD
END:VTIMEZONE
BEGIN:VEVENT
DTSTAMP:20260420T104412
DTSTART;TZID=Europe/Berlin:20260921T141500
DTEND;TZID=Europe/Berlin:20260921T173000
UID:262-721-3T-20260921T141500@VHSMITTLERES TAUBERTAL E. V.
SUMMARY:Integrationskurs für gering Literalisierte - Modul 3 (262-721-3T) 
LOCATION:Schulzentrum am Woert SZ, Raum B1.02, Pestalozziallee 6, 97941 Tauberbischofsheim
END:VEVENT
BEGIN:VEVENT
DTSTAMP:20260420T104412
DTSTART;TZID=Europe/Berlin:20260923T141500
DTEND;TZID=Europe/Berlin:20260923T173000
UID:262-721-3T-20260923T141500@VHSMITTLERES TAUBERTAL E. V.
SUMMARY:Integrationskurs für gering Literalisierte - Modul 3 (262-721-3T) 
LOCATION:Schulzentrum am Woert SZ, Raum B1.02, Pestalozziallee 6, 97941 Tauberbischofsheim
END:VEVENT
BEGIN:VEVENT
DTSTAMP:20260420T104412
DTSTART;TZID=Europe/Berlin:20260924T141500
DTEND;TZID=Europe/Berlin:20260924T173000
UID:262-721-3T-20260924T141500@VHSMITTLERES TAUBERTAL E. V.
SUMMARY:Integrationskurs für gering Literalisierte - Modul 3 (262-721-3T) 
LOCATION:Schulzentrum am Woert SZ, Raum B1.02, Pestalozziallee 6, 97941 Tauberbischofsheim
END:VEVENT
BEGIN:VEVENT
DTSTAMP:20260420T104412
DTSTART;TZID=Europe/Berlin:20260928T141500
DTEND;TZID=Europe/Berlin:20260928T173000
UID:262-721-3T-20260928T141500@VHSMITTLERES TAUBERTAL E. V.
SUMMARY:Integrationskurs für gering Literalisierte - Modul 3 (262-721-3T) 
LOCATION:Schulzentrum am Woert SZ, Raum B1.02, Pestalozziallee 6, 97941 Tauberbischofsheim
END:VEVENT
BEGIN:VEVENT
DTSTAMP:20260420T104412
DTSTART;TZID=Europe/Berlin:20260930T141500
DTEND;TZID=Europe/Berlin:20260930T173000
UID:262-721-3T-20260930T141500@VHSMITTLERES TAUBERTAL E. V.
SUMMARY:Integrationskurs für gering Literalisierte - Modul 3 (262-721-3T) 
LOCATION:Schulzentrum am Woert SZ, Raum B1.02, Pestalozziallee 6, 97941 Tauberbischofsheim
END:VEVENT
BEGIN:VEVENT
DTSTAMP:20260420T104412
DTSTART;TZID=Europe/Berlin:20261001T141500
DTEND;TZID=Europe/Berlin:20261001T173000
UID:262-721-3T-20261001T141500@VHSMITTLERES TAUBERTAL E. V.
SUMMARY:Integrationskurs für gering Literalisierte - Modul 3 (262-721-3T) 
LOCATION:Schulzentrum am Woert SZ, Raum B1.02, Pestalozziallee 6, 97941 Tauberbischofsheim
END:VEVENT
BEGIN:VEVENT
DTSTAMP:20260420T104412
DTSTART;TZID=Europe/Berlin:20261005T141500
DTEND;TZID=Europe/Berlin:20261005T173000
UID:262-721-3T-20261005T141500@VHSMITTLERES TAUBERTAL E. V.
SUMMARY:Integrationskurs für gering Literalisierte - Modul 3 (262-721-3T) 
LOCATION:Schulzentrum am Woert SZ, Raum B1.02, Pestalozziallee 6, 97941 Tauberbischofsheim
END:VEVENT
BEGIN:VEVENT
DTSTAMP:20260420T104412
DTSTART;TZID=Europe/Berlin:20261007T141500
DTEND;TZID=Europe/Berlin:20261007T173000
UID:262-721-3T-20261007T141500@VHSMITTLERES TAUBERTAL E. V.
SUMMARY:Integrationskurs für gering Literalisierte - Modul 3 (262-721-3T) 
LOCATION:Schulzentrum am Woert SZ, Raum B1.02, Pestalozziallee 6, 97941 Tauberbischofsheim
END:VEVENT
BEGIN:VEVENT
DTSTAMP:20260420T104412
DTSTART;TZID=Europe/Berlin:20261008T141500
DTEND;TZID=Europe/Berlin:20261008T173000
UID:262-721-3T-20261008T141500@VHSMITTLERES TAUBERTAL E. V.
SUMMARY:Integrationskurs für gering Literalisierte - Modul 3 (262-721-3T) 
LOCATION:Schulzentrum am Woert SZ, Raum B1.02, Pestalozziallee 6, 97941 Tauberbischofsheim
END:VEVENT
BEGIN:VEVENT
DTSTAMP:20260420T104412
DTSTART;TZID=Europe/Berlin:20261012T141500
DTEND;TZID=Europe/Berlin:20261012T173000
UID:262-721-3T-20261012T141500@VHSMITTLERES TAUBERTAL E. V.
SUMMARY:Integrationskurs für gering Literalisierte - Modul 3 (262-721-3T) 
LOCATION:Schulzentrum am Woert SZ, Raum B1.02, Pestalozziallee 6, 97941 Tauberbischofsheim
END:VEVENT
BEGIN:VEVENT
DTSTAMP:20260420T104412
DTSTART;TZID=Europe/Berlin:20261014T141500
DTEND;TZID=Europe/Berlin:20261014T173000
UID:262-721-3T-20261014T141500@VHSMITTLERES TAUBERTAL E. V.
SUMMARY:Integrationskurs für gering Literalisierte - Modul 3 (262-721-3T) 
LOCATION:Schulzentrum am Woert SZ, Raum B1.02, Pestalozziallee 6, 97941 Tauberbischofsheim
END:VEVENT
BEGIN:VEVENT
DTSTAMP:20260420T104412
DTSTART;TZID=Europe/Berlin:20261015T141500
DTEND;TZID=Europe/Berlin:20261015T173000
UID:262-721-3T-20261015T141500@VHSMITTLERES TAUBERTAL E. V.
SUMMARY:Integrationskurs für gering Literalisierte - Modul 3 (262-721-3T) 
LOCATION:Schulzentrum am Woert SZ, Raum B1.02, Pestalozziallee 6, 97941 Tauberbischofsheim
END:VEVENT
BEGIN:VEVENT
DTSTAMP:20260420T104412
DTSTART;TZID=Europe/Berlin:20261019T141500
DTEND;TZID=Europe/Berlin:20261019T173000
UID:262-721-3T-20261019T141500@VHSMITTLERES TAUBERTAL E. V.
SUMMARY:Integrationskurs für gering Literalisierte - Modul 3 (262-721-3T) 
LOCATION:Schulzentrum am Woert SZ, Raum B1.02, Pestalozziallee 6, 97941 Tauberbischofsheim
END:VEVENT
BEGIN:VEVENT
DTSTAMP:20260420T104412
DTSTART;TZID=Europe/Berlin:20261021T141500
DTEND;TZID=Europe/Berlin:20261021T173000
UID:262-721-3T-20261021T141500@VHSMITTLERES TAUBERTAL E. V.
SUMMARY:Integrationskurs für gering Literalisierte - Modul 3 (262-721-3T) 
LOCATION:Schulzentrum am Woert SZ, Raum B1.02, Pestalozziallee 6, 97941 Tauberbischofsheim
END:VEVENT
BEGIN:VEVENT
DTSTAMP:20260420T104412
DTSTART;TZID=Europe/Berlin:20261022T141500
DTEND;TZID=Europe/Berlin:20261022T173000
UID:262-721-3T-20261022T141500@VHSMITTLERES TAUBERTAL E. V.
SUMMARY:Integrationskurs für gering Literalisierte - Modul 3 (262-721-3T) 
LOCATION:Schulzentrum am Woert SZ, Raum B1.02, Pestalozziallee 6, 97941 Tauberbischofsheim
END:VEVENT
BEGIN:VEVENT
DTSTAMP:20260420T104412
DTSTART;TZID=Europe/Berlin:20261102T141500
DTEND;TZID=Europe/Berlin:20261102T173000
UID:262-721-3T-20261102T141500@VHSMITTLERES TAUBERTAL E. V.
SUMMARY:Integrationskurs für gering Literalisierte - Modul 3 (262-721-3T) 
LOCATION:Schulzentrum am Woert SZ, Raum B1.02, Pestalozziallee 6, 97941 Tauberbischofsheim
END:VEVENT
BEGIN:VEVENT
DTSTAMP:20260420T104412
DTSTART;TZID=Europe/Berlin:20261104T141500
DTEND;TZID=Europe/Berlin:20261104T173000
UID:262-721-3T-20261104T141500@VHSMITTLERES TAUBERTAL E. V.
SUMMARY:Integrationskurs für gering Literalisierte - Modul 3 (262-721-3T) 
LOCATION:Schulzentrum am Woert SZ, Raum B1.02, Pestalozziallee 6, 97941 Tauberbischofsheim
END:VEVENT
BEGIN:VEVENT
DTSTAMP:20260420T104412
DTSTART;TZID=Europe/Berlin:20261105T141500
DTEND;TZID=Europe/Berlin:20261105T173000
UID:262-721-3T-20261105T141500@VHSMITTLERES TAUBERTAL E. V.
SUMMARY:Integrationskurs für gering Literalisierte - Modul 3 (262-721-3T) 
LOCATION:Schulzentrum am Woert SZ, Raum B1.02, Pestalozziallee 6, 97941 Tauberbischofsheim
END:VEVENT
BEGIN:VEVENT
DTSTAMP:20260420T104412
DTSTART;TZID=Europe/Berlin:20261109T141500
DTEND;TZID=Europe/Berlin:20261109T173000
UID:262-721-3T-20261109T141500@VHSMITTLERES TAUBERTAL E. V.
SUMMARY:Integrationskurs für gering Literalisierte - Modul 3 (262-721-3T) 
LOCATION:Schulzentrum am Woert SZ, Raum B1.02, Pestalozziallee 6, 97941 Tauberbischofsheim
END:VEVENT
BEGIN:VEVENT
DTSTAMP:20260420T104412
DTSTART;TZID=Europe/Berlin:20261111T141500
DTEND;TZID=Europe/Berlin:20261111T173000
UID:262-721-3T-20261111T141500@VHSMITTLERES TAUBERTAL E. V.
SUMMARY:Integrationskurs für gering Literalisierte - Modul 3 (262-721-3T) 
LOCATION:Schulzentrum am Woert SZ, Raum B1.02, Pestalozziallee 6, 97941 Tauberbischofsheim
END:VEVENT
BEGIN:VEVENT
DTSTAMP:20260420T104412
DTSTART;TZID=Europe/Berlin:20261112T141500
DTEND;TZID=Europe/Berlin:20261112T173000
UID:262-721-3T-20261112T141500@VHSMITTLERES TAUBERTAL E. V.
SUMMARY:Integrationskurs für gering Literalisierte - Modul 3 (262-721-3T) 
LOCATION:Schulzentrum am Woert SZ, Raum B1.02, Pestalozziallee 6, 97941 Tauberbischofsheim
END:VEVENT
BEGIN:VEVENT
DTSTAMP:20260420T104412
DTSTART;TZID=Europe/Berlin:20261116T141500
DTEND;TZID=Europe/Berlin:20261116T173000
UID:262-721-3T-20261116T141500@VHSMITTLERES TAUBERTAL E. V.
SUMMARY:Integrationskurs für gering Literalisierte - Modul 3 (262-721-3T) 
LOCATION:Schulzentrum am Woert SZ, Raum B1.02, Pestalozziallee 6, 97941 Tauberbischofsheim
END:VEVENT
BEGIN:VEVENT
DTSTAMP:20260420T104412
DTSTART;TZID=Europe/Berlin:20261118T141500
DTEND;TZID=Europe/Berlin:20261118T173000
UID:262-721-3T-20261118T141500@VHSMITTLERES TAUBERTAL E. V.
SUMMARY:Integrationskurs für gering Literalisierte - Modul 3 (262-721-3T) 
LOCATION:Schulzentrum am Woert SZ, Raum B1.02, Pestalozziallee 6, 97941 Tauberbischofsheim
END:VEVENT
BEGIN:VEVENT
DTSTAMP:20260420T104412
DTSTART;TZID=Europe/Berlin:20261119T141500
DTEND;TZID=Europe/Berlin:20261119T173000
UID:262-721-3T-20261119T141500@VHSMITTLERES TAUBERTAL E. V.
SUMMARY:Integrationskurs für gering Literalisierte - Modul 3 (262-721-3T) 
LOCATION:Schulzentrum am Woert SZ, Raum B1.02, Pestalozziallee 6, 97941 Tauberbischofsheim
END:VEVENT
BEGIN:VEVENT
DTSTAMP:20260420T104412
DTSTART;TZID=Europe/Berlin:20261123T141500
DTEND;TZID=Europe/Berlin:20261123T173000
UID:262-721-3T-20261123T141500@VHSMITTLERES TAUBERTAL E. V.
SUMMARY:Integrationskurs für gering Literalisierte - Modul 3 (262-721-3T) 
LOCATION:Schulzentrum am Woert SZ, Raum B1.02, Pestalozziallee 6, 97941 Tauberbischofsheim
END:VEVENT
END:VCALENDAR