BEGIN:VCALENDAR
VERSION:2.0
PRODID:https://www.kufer.de/kuferweb / DE
METHOD:PUBLISH
CALSCALE:GREGORIAN
X-WR-TIMEZONE:Europe/Berlin
BEGIN:VTIMEZONE
TZID:Europe/Berlin
X-LIC-LOCATION:Europe/Berlin
BEGIN:DAYLIGHT
TZOFFSETFROM:+0100
TZOFFSETTO:+0200
TZNAME:CEST
DTSTART:19700329T020000
RRULE:FREQ=YEARLY;INTERVAL=1;BYDAY=-1SU;BYMONTH=3
END:DAYLIGHT
BEGIN:STANDARD
TZOFFSETFROM:+0200
TZOFFSETTO:+0100
TZNAME:CET
DTSTART:19701025T030000
RRULE:FREQ=YEARLY;INTERVAL=1;BYDAY=-1SU;BYMONTH=10
END:STANDARD
END:VTIMEZONE
BEGIN:VEVENT
DTSTAMP:20260420T104318
DTSTART;TZID=Europe/Berlin:20260608T141500
DTEND;TZID=Europe/Berlin:20260608T173000
UID:261-721-2T-20260608T141500@VHSMITTLERES TAUBERTAL E. V.
SUMMARY:Integrationskurs für gering Literalisierte - Modul 2 (261-721-2T) 
LOCATION:Schulzentrum am Woert SZ, Raum R, Pestalozziallee 6, 97941 Tauberbischofsheim
END:VEVENT
BEGIN:VEVENT
DTSTAMP:20260420T104318
DTSTART;TZID=Europe/Berlin:20260610T141500
DTEND;TZID=Europe/Berlin:20260610T173000
UID:261-721-2T-20260610T141500@VHSMITTLERES TAUBERTAL E. V.
SUMMARY:Integrationskurs für gering Literalisierte - Modul 2 (261-721-2T) 
LOCATION:Schulzentrum am Woert SZ, Raum R, Pestalozziallee 6, 97941 Tauberbischofsheim
END:VEVENT
BEGIN:VEVENT
DTSTAMP:20260420T104318
DTSTART;TZID=Europe/Berlin:20260611T141500
DTEND;TZID=Europe/Berlin:20260611T173000
UID:261-721-2T-20260611T141500@VHSMITTLERES TAUBERTAL E. V.
SUMMARY:Integrationskurs für gering Literalisierte - Modul 2 (261-721-2T) 
LOCATION:Schulzentrum am Woert SZ, Raum R, Pestalozziallee 6, 97941 Tauberbischofsheim
END:VEVENT
BEGIN:VEVENT
DTSTAMP:20260420T104318
DTSTART;TZID=Europe/Berlin:20260615T141500
DTEND;TZID=Europe/Berlin:20260615T173000
UID:261-721-2T-20260615T141500@VHSMITTLERES TAUBERTAL E. V.
SUMMARY:Integrationskurs für gering Literalisierte - Modul 2 (261-721-2T) 
LOCATION:Schulzentrum am Woert SZ, Raum R, Pestalozziallee 6, 97941 Tauberbischofsheim
END:VEVENT
BEGIN:VEVENT
DTSTAMP:20260420T104318
DTSTART;TZID=Europe/Berlin:20260617T141500
DTEND;TZID=Europe/Berlin:20260617T173000
UID:261-721-2T-20260617T141500@VHSMITTLERES TAUBERTAL E. V.
SUMMARY:Integrationskurs für gering Literalisierte - Modul 2 (261-721-2T) 
LOCATION:Schulzentrum am Woert SZ, Raum R, Pestalozziallee 6, 97941 Tauberbischofsheim
END:VEVENT
BEGIN:VEVENT
DTSTAMP:20260420T104318
DTSTART;TZID=Europe/Berlin:20260618T141500
DTEND;TZID=Europe/Berlin:20260618T173000
UID:261-721-2T-20260618T141500@VHSMITTLERES TAUBERTAL E. V.
SUMMARY:Integrationskurs für gering Literalisierte - Modul 2 (261-721-2T) 
LOCATION:Schulzentrum am Woert SZ, Raum R, Pestalozziallee 6, 97941 Tauberbischofsheim
END:VEVENT
BEGIN:VEVENT
DTSTAMP:20260420T104318
DTSTART;TZID=Europe/Berlin:20260622T141500
DTEND;TZID=Europe/Berlin:20260622T173000
UID:261-721-2T-20260622T141500@VHSMITTLERES TAUBERTAL E. V.
SUMMARY:Integrationskurs für gering Literalisierte - Modul 2 (261-721-2T) 
LOCATION:Schulzentrum am Woert SZ, Raum R, Pestalozziallee 6, 97941 Tauberbischofsheim
END:VEVENT
BEGIN:VEVENT
DTSTAMP:20260420T104318
DTSTART;TZID=Europe/Berlin:20260624T141500
DTEND;TZID=Europe/Berlin:20260624T173000
UID:261-721-2T-20260624T141500@VHSMITTLERES TAUBERTAL E. V.
SUMMARY:Integrationskurs für gering Literalisierte - Modul 2 (261-721-2T) 
LOCATION:Schulzentrum am Woert SZ, Raum R, Pestalozziallee 6, 97941 Tauberbischofsheim
END:VEVENT
BEGIN:VEVENT
DTSTAMP:20260420T104318
DTSTART;TZID=Europe/Berlin:20260625T141500
DTEND;TZID=Europe/Berlin:20260625T173000
UID:261-721-2T-20260625T141500@VHSMITTLERES TAUBERTAL E. V.
SUMMARY:Integrationskurs für gering Literalisierte - Modul 2 (261-721-2T) 
LOCATION:Schulzentrum am Woert SZ, Raum R, Pestalozziallee 6, 97941 Tauberbischofsheim
END:VEVENT
BEGIN:VEVENT
DTSTAMP:20260420T104318
DTSTART;TZID=Europe/Berlin:20260629T141500
DTEND;TZID=Europe/Berlin:20260629T173000
UID:261-721-2T-20260629T141500@VHSMITTLERES TAUBERTAL E. V.
SUMMARY:Integrationskurs für gering Literalisierte - Modul 2 (261-721-2T) 
LOCATION:Schulzentrum am Woert SZ, Raum R, Pestalozziallee 6, 97941 Tauberbischofsheim
END:VEVENT
BEGIN:VEVENT
DTSTAMP:20260420T104318
DTSTART;TZID=Europe/Berlin:20260701T141500
DTEND;TZID=Europe/Berlin:20260701T173000
UID:261-721-2T-20260701T141500@VHSMITTLERES TAUBERTAL E. V.
SUMMARY:Integrationskurs für gering Literalisierte - Modul 2 (261-721-2T) 
LOCATION:Schulzentrum am Woert SZ, Raum R, Pestalozziallee 6, 97941 Tauberbischofsheim
END:VEVENT
BEGIN:VEVENT
DTSTAMP:20260420T104318
DTSTART;TZID=Europe/Berlin:20260702T141500
DTEND;TZID=Europe/Berlin:20260702T173000
UID:261-721-2T-20260702T141500@VHSMITTLERES TAUBERTAL E. V.
SUMMARY:Integrationskurs für gering Literalisierte - Modul 2 (261-721-2T) 
LOCATION:Schulzentrum am Woert SZ, Raum R, Pestalozziallee 6, 97941 Tauberbischofsheim
END:VEVENT
BEGIN:VEVENT
DTSTAMP:20260420T104318
DTSTART;TZID=Europe/Berlin:20260706T141500
DTEND;TZID=Europe/Berlin:20260706T173000
UID:261-721-2T-20260706T141500@VHSMITTLERES TAUBERTAL E. V.
SUMMARY:Integrationskurs für gering Literalisierte - Modul 2 (261-721-2T) 
LOCATION:Schulzentrum am Woert SZ, Raum R, Pestalozziallee 6, 97941 Tauberbischofsheim
END:VEVENT
BEGIN:VEVENT
DTSTAMP:20260420T104318
DTSTART;TZID=Europe/Berlin:20260708T141500
DTEND;TZID=Europe/Berlin:20260708T173000
UID:261-721-2T-20260708T141500@VHSMITTLERES TAUBERTAL E. V.
SUMMARY:Integrationskurs für gering Literalisierte - Modul 2 (261-721-2T) 
LOCATION:Schulzentrum am Woert SZ, Raum R, Pestalozziallee 6, 97941 Tauberbischofsheim
END:VEVENT
BEGIN:VEVENT
DTSTAMP:20260420T104318
DTSTART;TZID=Europe/Berlin:20260709T141500
DTEND;TZID=Europe/Berlin:20260709T173000
UID:261-721-2T-20260709T141500@VHSMITTLERES TAUBERTAL E. V.
SUMMARY:Integrationskurs für gering Literalisierte - Modul 2 (261-721-2T) 
LOCATION:Schulzentrum am Woert SZ, Raum R, Pestalozziallee 6, 97941 Tauberbischofsheim
END:VEVENT
BEGIN:VEVENT
DTSTAMP:20260420T104318
DTSTART;TZID=Europe/Berlin:20260713T141500
DTEND;TZID=Europe/Berlin:20260713T173000
UID:261-721-2T-20260713T141500@VHSMITTLERES TAUBERTAL E. V.
SUMMARY:Integrationskurs für gering Literalisierte - Modul 2 (261-721-2T) 
LOCATION:Schulzentrum am Woert SZ, Raum R, Pestalozziallee 6, 97941 Tauberbischofsheim
END:VEVENT
BEGIN:VEVENT
DTSTAMP:20260420T104318
DTSTART;TZID=Europe/Berlin:20260715T141500
DTEND;TZID=Europe/Berlin:20260715T173000
UID:261-721-2T-20260715T141500@VHSMITTLERES TAUBERTAL E. V.
SUMMARY:Integrationskurs für gering Literalisierte - Modul 2 (261-721-2T) 
LOCATION:Schulzentrum am Woert SZ, Raum R, Pestalozziallee 6, 97941 Tauberbischofsheim
END:VEVENT
BEGIN:VEVENT
DTSTAMP:20260420T104318
DTSTART;TZID=Europe/Berlin:20260716T141500
DTEND;TZID=Europe/Berlin:20260716T173000
UID:261-721-2T-20260716T141500@VHSMITTLERES TAUBERTAL E. V.
SUMMARY:Integrationskurs für gering Literalisierte - Modul 2 (261-721-2T) 
LOCATION:Schulzentrum am Woert SZ, Raum R, Pestalozziallee 6, 97941 Tauberbischofsheim
END:VEVENT
BEGIN:VEVENT
DTSTAMP:20260420T104318
DTSTART;TZID=Europe/Berlin:20260720T141500
DTEND;TZID=Europe/Berlin:20260720T173000
UID:261-721-2T-20260720T141500@VHSMITTLERES TAUBERTAL E. V.
SUMMARY:Integrationskurs für gering Literalisierte - Modul 2 (261-721-2T) 
LOCATION:Schulzentrum am Woert SZ, Raum R, Pestalozziallee 6, 97941 Tauberbischofsheim
END:VEVENT
BEGIN:VEVENT
DTSTAMP:20260420T104318
DTSTART;TZID=Europe/Berlin:20260722T141500
DTEND;TZID=Europe/Berlin:20260722T173000
UID:261-721-2T-20260722T141500@VHSMITTLERES TAUBERTAL E. V.
SUMMARY:Integrationskurs für gering Literalisierte - Modul 2 (261-721-2T) 
LOCATION:Schulzentrum am Woert SZ, Raum R, Pestalozziallee 6, 97941 Tauberbischofsheim
END:VEVENT
BEGIN:VEVENT
DTSTAMP:20260420T104318
DTSTART;TZID=Europe/Berlin:20260723T141500
DTEND;TZID=Europe/Berlin:20260723T173000
UID:261-721-2T-20260723T141500@VHSMITTLERES TAUBERTAL E. V.
SUMMARY:Integrationskurs für gering Literalisierte - Modul 2 (261-721-2T) 
LOCATION:Schulzentrum am Woert SZ, Raum R, Pestalozziallee 6, 97941 Tauberbischofsheim
END:VEVENT
BEGIN:VEVENT
DTSTAMP:20260420T104318
DTSTART;TZID=Europe/Berlin:20260727T141500
DTEND;TZID=Europe/Berlin:20260727T173000
UID:261-721-2T-20260727T141500@VHSMITTLERES TAUBERTAL E. V.
SUMMARY:Integrationskurs für gering Literalisierte - Modul 2 (261-721-2T) 
LOCATION:Schulzentrum am Woert SZ, Raum R, Pestalozziallee 6, 97941 Tauberbischofsheim
END:VEVENT
BEGIN:VEVENT
DTSTAMP:20260420T104318
DTSTART;TZID=Europe/Berlin:20260729T141500
DTEND;TZID=Europe/Berlin:20260729T173000
UID:261-721-2T-20260729T141500@VHSMITTLERES TAUBERTAL E. V.
SUMMARY:Integrationskurs für gering Literalisierte - Modul 2 (261-721-2T) 
LOCATION:Schulzentrum am Woert SZ, Raum R, Pestalozziallee 6, 97941 Tauberbischofsheim
END:VEVENT
BEGIN:VEVENT
DTSTAMP:20260420T104318
DTSTART;TZID=Europe/Berlin:20260914T141500
DTEND;TZID=Europe/Berlin:20260914T173000
UID:261-721-2T-20260914T141500@VHSMITTLERES TAUBERTAL E. V.
SUMMARY:Integrationskurs für gering Literalisierte - Modul 2 (261-721-2T) 
LOCATION:Schulzentrum am Woert SZ, Raum R, Pestalozziallee 6, 97941 Tauberbischofsheim
END:VEVENT
BEGIN:VEVENT
DTSTAMP:20260420T104318
DTSTART;TZID=Europe/Berlin:20260916T141500
DTEND;TZID=Europe/Berlin:20260916T173000
UID:261-721-2T-20260916T141500@VHSMITTLERES TAUBERTAL E. V.
SUMMARY:Integrationskurs für gering Literalisierte - Modul 2 (261-721-2T) 
LOCATION:Schulzentrum am Woert SZ, Raum R, Pestalozziallee 6, 97941 Tauberbischofsheim
END:VEVENT
END:VCALENDAR