BEGIN:VCALENDAR
VERSION:2.0
PRODID:https://www.kufer.de/kuferweb / DE
METHOD:PUBLISH
CALSCALE:GREGORIAN
X-WR-TIMEZONE:Europe/Berlin
BEGIN:VTIMEZONE
TZID:Europe/Berlin
X-LIC-LOCATION:Europe/Berlin
BEGIN:DAYLIGHT
TZOFFSETFROM:+0100
TZOFFSETTO:+0200
TZNAME:CEST
DTSTART:19700329T020000
RRULE:FREQ=YEARLY;INTERVAL=1;BYDAY=-1SU;BYMONTH=3
END:DAYLIGHT
BEGIN:STANDARD
TZOFFSETFROM:+0200
TZOFFSETTO:+0100
TZNAME:CET
DTSTART:19701025T030000
RRULE:FREQ=YEARLY;INTERVAL=1;BYDAY=-1SU;BYMONTH=10
END:STANDARD
END:VTIMEZONE
BEGIN:VEVENT
DTSTAMP:20260420T104348
DTSTART;TZID=Europe/Berlin:20260311T141500
DTEND;TZID=Europe/Berlin:20260311T173000
UID:261-721-1T-20260311T141500@VHSMITTLERES TAUBERTAL E. V.
SUMMARY:Integrationskurs für gering Literalisierte - Modul 1 (261-721-1T) 
LOCATION:Schulzentrum am Woert SZ, Raum R, Pestalozziallee 6, 97941 Tauberbischofsheim
END:VEVENT
BEGIN:VEVENT
DTSTAMP:20260420T104348
DTSTART;TZID=Europe/Berlin:20260312T141500
DTEND;TZID=Europe/Berlin:20260312T173000
UID:261-721-1T-20260312T141500@VHSMITTLERES TAUBERTAL E. V.
SUMMARY:Integrationskurs für gering Literalisierte - Modul 1 (261-721-1T) 
LOCATION:Schulzentrum am Woert SZ, Raum R, Pestalozziallee 6, 97941 Tauberbischofsheim
END:VEVENT
BEGIN:VEVENT
DTSTAMP:20260420T104348
DTSTART;TZID=Europe/Berlin:20260316T141500
DTEND;TZID=Europe/Berlin:20260316T173000
UID:261-721-1T-20260316T141500@VHSMITTLERES TAUBERTAL E. V.
SUMMARY:Integrationskurs für gering Literalisierte - Modul 1 (261-721-1T) 
LOCATION:Schulzentrum am Woert SZ, Raum R, Pestalozziallee 6, 97941 Tauberbischofsheim
END:VEVENT
BEGIN:VEVENT
DTSTAMP:20260420T104348
DTSTART;TZID=Europe/Berlin:20260318T141500
DTEND;TZID=Europe/Berlin:20260318T173000
UID:261-721-1T-20260318T141500@VHSMITTLERES TAUBERTAL E. V.
SUMMARY:Integrationskurs für gering Literalisierte - Modul 1 (261-721-1T) 
LOCATION:Schulzentrum am Woert SZ, Raum R, Pestalozziallee 6, 97941 Tauberbischofsheim
END:VEVENT
BEGIN:VEVENT
DTSTAMP:20260420T104348
DTSTART;TZID=Europe/Berlin:20260319T141500
DTEND;TZID=Europe/Berlin:20260319T173000
UID:261-721-1T-20260319T141500@VHSMITTLERES TAUBERTAL E. V.
SUMMARY:Integrationskurs für gering Literalisierte - Modul 1 (261-721-1T) 
LOCATION:Schulzentrum am Woert SZ, Raum R, Pestalozziallee 6, 97941 Tauberbischofsheim
END:VEVENT
BEGIN:VEVENT
DTSTAMP:20260420T104348
DTSTART;TZID=Europe/Berlin:20260323T141500
DTEND;TZID=Europe/Berlin:20260323T173000
UID:261-721-1T-20260323T141500@VHSMITTLERES TAUBERTAL E. V.
SUMMARY:Integrationskurs für gering Literalisierte - Modul 1 (261-721-1T) 
LOCATION:Schulzentrum am Woert SZ, Raum R, Pestalozziallee 6, 97941 Tauberbischofsheim
END:VEVENT
BEGIN:VEVENT
DTSTAMP:20260420T104348
DTSTART;TZID=Europe/Berlin:20260325T141500
DTEND;TZID=Europe/Berlin:20260325T173000
UID:261-721-1T-20260325T141500@VHSMITTLERES TAUBERTAL E. V.
SUMMARY:Integrationskurs für gering Literalisierte - Modul 1 (261-721-1T) 
LOCATION:Schulzentrum am Woert SZ, Raum R, Pestalozziallee 6, 97941 Tauberbischofsheim
END:VEVENT
BEGIN:VEVENT
DTSTAMP:20260420T104348
DTSTART;TZID=Europe/Berlin:20260326T141500
DTEND;TZID=Europe/Berlin:20260326T173000
UID:261-721-1T-20260326T141500@VHSMITTLERES TAUBERTAL E. V.
SUMMARY:Integrationskurs für gering Literalisierte - Modul 1 (261-721-1T) 
LOCATION:Schulzentrum am Woert SZ, Raum R, Pestalozziallee 6, 97941 Tauberbischofsheim
END:VEVENT
BEGIN:VEVENT
DTSTAMP:20260420T104348
DTSTART;TZID=Europe/Berlin:20260413T141500
DTEND;TZID=Europe/Berlin:20260413T173000
UID:261-721-1T-20260413T141500@VHSMITTLERES TAUBERTAL E. V.
SUMMARY:Integrationskurs für gering Literalisierte - Modul 1 (261-721-1T) 
LOCATION:Schulzentrum am Woert SZ, Raum R, Pestalozziallee 6, 97941 Tauberbischofsheim
END:VEVENT
BEGIN:VEVENT
DTSTAMP:20260420T104348
DTSTART;TZID=Europe/Berlin:20260415T141500
DTEND;TZID=Europe/Berlin:20260415T173000
UID:261-721-1T-20260415T141500@VHSMITTLERES TAUBERTAL E. V.
SUMMARY:Integrationskurs für gering Literalisierte - Modul 1 (261-721-1T) 
LOCATION:Schulzentrum am Woert SZ, Raum R, Pestalozziallee 6, 97941 Tauberbischofsheim
END:VEVENT
BEGIN:VEVENT
DTSTAMP:20260420T104348
DTSTART;TZID=Europe/Berlin:20260416T141500
DTEND;TZID=Europe/Berlin:20260416T173000
UID:261-721-1T-20260416T141500@VHSMITTLERES TAUBERTAL E. V.
SUMMARY:Integrationskurs für gering Literalisierte - Modul 1 (261-721-1T) 
LOCATION:Schulzentrum am Woert SZ, Raum R, Pestalozziallee 6, 97941 Tauberbischofsheim
END:VEVENT
BEGIN:VEVENT
DTSTAMP:20260420T104348
DTSTART;TZID=Europe/Berlin:20260420T141500
DTEND;TZID=Europe/Berlin:20260420T173000
UID:261-721-1T-20260420T141500@VHSMITTLERES TAUBERTAL E. V.
SUMMARY:Integrationskurs für gering Literalisierte - Modul 1 (261-721-1T) 
LOCATION:Schulzentrum am Woert SZ, Raum R, Pestalozziallee 6, 97941 Tauberbischofsheim
END:VEVENT
BEGIN:VEVENT
DTSTAMP:20260420T104348
DTSTART;TZID=Europe/Berlin:20260422T141500
DTEND;TZID=Europe/Berlin:20260422T173000
UID:261-721-1T-20260422T141500@VHSMITTLERES TAUBERTAL E. V.
SUMMARY:Integrationskurs für gering Literalisierte - Modul 1 (261-721-1T) 
LOCATION:Schulzentrum am Woert SZ, Raum R, Pestalozziallee 6, 97941 Tauberbischofsheim
END:VEVENT
BEGIN:VEVENT
DTSTAMP:20260420T104348
DTSTART;TZID=Europe/Berlin:20260423T141500
DTEND;TZID=Europe/Berlin:20260423T173000
UID:261-721-1T-20260423T141500@VHSMITTLERES TAUBERTAL E. V.
SUMMARY:Integrationskurs für gering Literalisierte - Modul 1 (261-721-1T) 
LOCATION:Schulzentrum am Woert SZ, Raum R, Pestalozziallee 6, 97941 Tauberbischofsheim
END:VEVENT
BEGIN:VEVENT
DTSTAMP:20260420T104348
DTSTART;TZID=Europe/Berlin:20260427T141500
DTEND;TZID=Europe/Berlin:20260427T173000
UID:261-721-1T-20260427T141500@VHSMITTLERES TAUBERTAL E. V.
SUMMARY:Integrationskurs für gering Literalisierte - Modul 1 (261-721-1T) 
LOCATION:Schulzentrum am Woert SZ, Raum R, Pestalozziallee 6, 97941 Tauberbischofsheim
END:VEVENT
BEGIN:VEVENT
DTSTAMP:20260420T104348
DTSTART;TZID=Europe/Berlin:20260429T141500
DTEND;TZID=Europe/Berlin:20260429T173000
UID:261-721-1T-20260429T141500@VHSMITTLERES TAUBERTAL E. V.
SUMMARY:Integrationskurs für gering Literalisierte - Modul 1 (261-721-1T) 
LOCATION:Schulzentrum am Woert SZ, Raum R, Pestalozziallee 6, 97941 Tauberbischofsheim
END:VEVENT
BEGIN:VEVENT
DTSTAMP:20260420T104348
DTSTART;TZID=Europe/Berlin:20260430T141500
DTEND;TZID=Europe/Berlin:20260430T173000
UID:261-721-1T-20260430T141500@VHSMITTLERES TAUBERTAL E. V.
SUMMARY:Integrationskurs für gering Literalisierte - Modul 1 (261-721-1T) 
LOCATION:Schulzentrum am Woert SZ, Raum R, Pestalozziallee 6, 97941 Tauberbischofsheim
END:VEVENT
BEGIN:VEVENT
DTSTAMP:20260420T104348
DTSTART;TZID=Europe/Berlin:20260504T141500
DTEND;TZID=Europe/Berlin:20260504T173000
UID:261-721-1T-20260504T141500@VHSMITTLERES TAUBERTAL E. V.
SUMMARY:Integrationskurs für gering Literalisierte - Modul 1 (261-721-1T) 
LOCATION:Schulzentrum am Woert SZ, Raum R, Pestalozziallee 6, 97941 Tauberbischofsheim
END:VEVENT
BEGIN:VEVENT
DTSTAMP:20260420T104348
DTSTART;TZID=Europe/Berlin:20260506T141500
DTEND;TZID=Europe/Berlin:20260506T173000
UID:261-721-1T-20260506T141500@VHSMITTLERES TAUBERTAL E. V.
SUMMARY:Integrationskurs für gering Literalisierte - Modul 1 (261-721-1T) 
LOCATION:Schulzentrum am Woert SZ, Raum R, Pestalozziallee 6, 97941 Tauberbischofsheim
END:VEVENT
BEGIN:VEVENT
DTSTAMP:20260420T104348
DTSTART;TZID=Europe/Berlin:20260507T141500
DTEND;TZID=Europe/Berlin:20260507T173000
UID:261-721-1T-20260507T141500@VHSMITTLERES TAUBERTAL E. V.
SUMMARY:Integrationskurs für gering Literalisierte - Modul 1 (261-721-1T) 
LOCATION:Schulzentrum am Woert SZ, Raum R, Pestalozziallee 6, 97941 Tauberbischofsheim
END:VEVENT
BEGIN:VEVENT
DTSTAMP:20260420T104348
DTSTART;TZID=Europe/Berlin:20260511T141500
DTEND;TZID=Europe/Berlin:20260511T173000
UID:261-721-1T-20260511T141500@VHSMITTLERES TAUBERTAL E. V.
SUMMARY:Integrationskurs für gering Literalisierte - Modul 1 (261-721-1T) 
LOCATION:Schulzentrum am Woert SZ, Raum R, Pestalozziallee 6, 97941 Tauberbischofsheim
END:VEVENT
BEGIN:VEVENT
DTSTAMP:20260420T104348
DTSTART;TZID=Europe/Berlin:20260513T141500
DTEND;TZID=Europe/Berlin:20260513T173000
UID:261-721-1T-20260513T141500@VHSMITTLERES TAUBERTAL E. V.
SUMMARY:Integrationskurs für gering Literalisierte - Modul 1 (261-721-1T) 
LOCATION:Schulzentrum am Woert SZ, Raum R, Pestalozziallee 6, 97941 Tauberbischofsheim
END:VEVENT
BEGIN:VEVENT
DTSTAMP:20260420T104348
DTSTART;TZID=Europe/Berlin:20260518T141500
DTEND;TZID=Europe/Berlin:20260518T173000
UID:261-721-1T-20260518T141500@VHSMITTLERES TAUBERTAL E. V.
SUMMARY:Integrationskurs für gering Literalisierte - Modul 1 (261-721-1T) 
LOCATION:Schulzentrum am Woert SZ, Raum R, Pestalozziallee 6, 97941 Tauberbischofsheim
END:VEVENT
BEGIN:VEVENT
DTSTAMP:20260420T104348
DTSTART;TZID=Europe/Berlin:20260520T141500
DTEND;TZID=Europe/Berlin:20260520T173000
UID:261-721-1T-20260520T141500@VHSMITTLERES TAUBERTAL E. V.
SUMMARY:Integrationskurs für gering Literalisierte - Modul 1 (261-721-1T) 
LOCATION:Schulzentrum am Woert SZ, Raum R, Pestalozziallee 6, 97941 Tauberbischofsheim
END:VEVENT
BEGIN:VEVENT
DTSTAMP:20260420T104348
DTSTART;TZID=Europe/Berlin:20260521T141500
DTEND;TZID=Europe/Berlin:20260521T173000
UID:261-721-1T-20260521T141500@VHSMITTLERES TAUBERTAL E. V.
SUMMARY:Integrationskurs für gering Literalisierte - Modul 1 (261-721-1T) 
LOCATION:Schulzentrum am Woert SZ, Raum R, Pestalozziallee 6, 97941 Tauberbischofsheim
END:VEVENT
END:VCALENDAR